BEGIN:VCALENDAR
VERSION:2.0
PRODID:-//SP Thierachern - ECPv6.15.20//NONSGML v1.0//EN
CALSCALE:GREGORIAN
METHOD:PUBLISH
X-WR-CALNAME:SP Thierachern
X-ORIGINAL-URL:https://spthierachern.ch
X-WR-CALDESC:Veranstaltungen im SP Thierachern
REFRESH-INTERVAL;VALUE=DURATION:PT1H
X-Robots-Tag:noindex
X-PUBLISHED-TTL:PT1H
BEGIN:VTIMEZONE
TZID:Europe/Zurich
BEGIN:DAYLIGHT
TZOFFSETFROM:+0100
TZOFFSETTO:+0200
TZNAME:CEST
DTSTART:20250330T010000
END:DAYLIGHT
BEGIN:STANDARD
TZOFFSETFROM:+0200
TZOFFSETTO:+0100
TZNAME:CET
DTSTART:20251026T010000
END:STANDARD
BEGIN:DAYLIGHT
TZOFFSETFROM:+0100
TZOFFSETTO:+0200
TZNAME:CEST
DTSTART:20260329T010000
END:DAYLIGHT
BEGIN:STANDARD
TZOFFSETFROM:+0200
TZOFFSETTO:+0100
TZNAME:CET
DTSTART:20261025T010000
END:STANDARD
BEGIN:DAYLIGHT
TZOFFSETFROM:+0100
TZOFFSETTO:+0200
TZNAME:CEST
DTSTART:20270328T010000
END:DAYLIGHT
BEGIN:STANDARD
TZOFFSETFROM:+0200
TZOFFSETTO:+0100
TZNAME:CET
DTSTART:20271031T010000
END:STANDARD
END:VTIMEZONE
BEGIN:VEVENT
DTSTART;TZID=Europe/Zurich:20260615T200000
DTEND;TZID=Europe/Zurich:20260615T220000
DTSTAMP:20260422T140020
CREATED:20251102T131027Z
LAST-MODIFIED:20251102T131027Z
UID:88930-1781553600-1781560800@spthierachern.ch
SUMMARY:Gemeindeversammlung
DESCRIPTION:Die Bürger Thieracherns nehmen ihre direktdemokratischen Rechte wahr und gehen an die Gemeindeversammlung.
URL:https://spthierachern.ch/veranstaltung/gemeindeversammlung-4/
LOCATION:Schulhaus Kandermatte\, Bachweg 9\, Thierachern\, 3634\, Switzerland
END:VEVENT
END:VCALENDAR